BEGIN:VCALENDAR
VERSION:2.0
PRODID:-//wp-events-plugin.com//7.2.3.1//EN
BEGIN:VEVENT
UID:16@hubiberiaagrotech.eu
DTSTART:20241211T090000Z
DTEND:20241211T100000Z
DTSTAMP:20241210T095732Z
URL:https://hubiberiaagrotech.eu/events/mesa-redonda-ii-congreso-internaci
 onal-de-start-ups/
SUMMARY:Mesa redonda HIBA+ sobre programas de financiación europea y anál
 isis empresarial asociado al desarrollo
DESCRIPTION:Jornada de mentorización y análisis empresariales asociadas a
 l desarrollo de la digitalización en el sector agroalimentario.
ATTACH;FMTTYPE=image/jpeg:https://hubiberiaagrotech.eu/wp-content/uploads/
 2024/12/HIBA-SEVILLA-12-DIC-2-2.jpg
LOCATION:https://www.congresointernacionalstartups.com/
END:VEVENT
END:VCALENDAR